Workbook

Sheet Espaço
F1: Select Language / Seleccione Idioma | K1: Português
A3: =TV!$J$5 -> REQUISIÇÃO DE PARTICIPAÇÃO
A4: =TV!$J$1 -> Prazo de Inscrição: 30 | 10 | 2013
O5: =TV!$H$1 -> 14 a 17 Novembro 2013
B8: =TV!$H$9 -> DADOS DO EXPOSITOR: | H8: * | I8: =TV!$H$5 -> Campos Obrigatórios
B9: * | C9: =TV!$F$19 -> Nº Contribuinte:
B10: * | C10: =TV!$A$23 -> Empresa:
B11: * | C11: =TV!$A$8 -> Morada:
B12: * | C12: =TV!$F$4 -> Código Postal: | G12: * | H12: =TV!$F$7 -> Localidade: | M12: * | N12: =TV!$A$15 -> Distrito:
B13: * | C13: =TV!$A$12 -> Pais: | H13: * | I13: =TV!$F$15 -> Telefone: | N13: * Fax:
B14: * | C14: e-mail: | K14: Web:
B15: =TV!$H$13 -> Nome contacto: | L15: =TV!$F$23 -> Cargo:
B16: =TV!$H$17 -> E-mail directo: | L16: =TV!$H$20 -> Telefone directo:
B18: ='TV2'!$A$11 -> DADOS DE FACTURAÇÃO (se for diferente dos dados de Expositor)
C19: ='TV2'!$A$15 -> Para os serviços adicionais solicitados, deverá obrigatoriamente enviar junto com esta Requisição de Participação os dados da Empresa a facturar.
E24: =TV!$J$21 -> ESPAÇO FESTA DOS MUSEUS | K24: 9 m2
C28: =TV!$J$9 -> INCLUI:
D29: =TV!$M$1 -> ● Quota de Inscrição | J29: =TV!$M$6 -> ● 6 Cartões de Expositor (enviar lista com nomes)
D30: =TV!$M$5 -> ● Remoção Resíduos (1) | J30: =TV!$M$7 -> ● 1 Plinto
D31: =TV!$M$3 -> ● Ligação Energia até 10KW | J31: =TV!$M$8 -> ● 2 Cadeiras
D32: =TV!$M$4 -> ● Consumo Energia | J32: =TV!$M$9 -> ● Estruturas
D33: =TV!$M$2 -> ● Inserção Catálogo | J33: =TV!$M$10 -> ● Seguro Responsabilidade Civil
D35: ='TV2'!$A$19 -> (1) Remoção de lixos das áreas comuns na Montagem e Realização (não inclui limpeza de Stand nem remoção de lixo da desmontagem).
C51: =TV!$J$13 -> ATENÇÃO! | E51: Notas Importantes | I51: Important Notes | M51: Notas Importantes
E52: Regulamento Geral da FIL | I52: General Regulation of FIL | M52: Reglamento General de FIL
C54: ='TV2'!$A$23 -> FORMAS DE PAGAMENTO PARA OS SERVIÇOS ADICIONAIS SOLICITADOS: Colocar a referência - FESTIVAL IN 2013
C55: =TV!$J$17 -> Cheque/Transferência Bancária a favor de: | I55: AIP-FEIRAS, CONGRESSOS E EVENTOS, ASSOCIAÇÃO EMPRESARIAL
C56: Banco Santander Totta - NIB: 0018 0000 39829121001 38 - IBAN: PT50 0018 0000 39829121001 38 - Swift Code: TOTAPTPL
C58: ='TV2'!$A$3 -> Declaramos querer participar no certame acima indicado, nas condições da presente Requisição e do Regulamento Geral da FIL, de que tomámos conhecimento e que aceitamos.
C60: ='TV2'!$A$7 -> Comprometemo-nos a enviar o comprovativo de pagamento equivalente a 100% dos serviços adicionais solicitados para a nossa participação, nos termos das normas aplicáveis ao Certame.
C65: =TV!$F$11 -> Assinatura: | L65: =TV!$A$19 -> Data:
C70: =TV!$F$1 -> CONTACTOS: | E70: Telef: 00-351-21-892 15 00 | J70: festival-in@aip.pt
E71: Fax: 00-351-21-892 15 55 | J71: www.festivalin.pt

Sheet TV
A1: Português | D1: L.T | F1: =IF($A$4="Português",F2,(IF($A$4="English",F3,(IF($A$4="Español",F2))))) -> CONTACTOS: | H1: =IF($A$4="Português",H2,(IF($A$4="English",H3,(IF($A$4="Español",H4))))) -> 14 a 17 Novembro 2013 | J1: =IF($A$4="Português",J2,(IF($A$4="English",J3,(IF($A$4="Español",J4))))) -> Prazo de Inscrição: 30 | 10 | 2013 | L1: ● Quota de Inscrição | M1: =IF($A$4="Português",L1,(IF($A$4="English",L11,(IF($A$4="Español",L21))))) -> ● Quota de Inscrição
A2: English | C2: =COUNTA(Espaço!G10,Espaço!#REF!) -> 1 | D2: =+VLOOKUP(C2,C4:D21,2) -> 2 | F2: CONTACTOS: | H2: 14 a 17 Novembro 2013 | J2: Prazo de Inscrição: 30 | 10 | 2013 | L2: ● Inserção Catálogo | M2: =IF($A$4="Português",L2,(IF($A$4="English",L12,(IF($A$4="Español",L22))))) -> ● Inserção Catálogo
A3: Español | F3: CONTACTS: | H3: 14 to 17 November 2013 | J3: Deadline: 30 | 10 | 2013 | L3: ● Ligação Energia até 10KW | M3: =IF($A$4="Português",L3,(IF($A$4="English",L13,(IF($A$4="Español",L23))))) -> ● Ligação Energia até 10KW
A4: =Espaço!$K$1 -> Português | C4: 0 | F4: =IF($A$4="Português",F5,(IF($A$4="English",F6,(IF($A$4="Español",F5))))) -> Código Postal: | H4: 14 al 17 Noviembre 2013 | J4: Fecha Límite: 30 | 10 | 2013 | L4: ● Consumo Energia | M4: =IF($A$4="Português",L4,(IF($A$4="English",L14,(IF($A$4="Español",L24))))) -> ● Consumo Energia
C5: 1 | D5: 2 | F5: Código Postal: | H5: =IF($A$4="Português",H6,(IF($A$4="English",H7,(IF($A$4="Español",H8))))) -> Campos Obrigatórios | J5: =IF($A$4="Português",J6,(IF($A$4="English",J7,(IF($A$4="Español",J8))))) -> REQUISIÇÃO DE PARTICIPAÇÃO | L5: ● Remoção Resíduos (1) | M5: =IF($A$4="Português",L5,(IF($A$4="English",L15,(IF($A$4="Español",L25))))) -> ● Remoção Resíduos (1)
C6: 2 | D6: 4 | F6: Zip Code: | H6: Campos Obrigatórios | J6: REQUISIÇÃO DE PARTICIPAÇÃO | L6: ● 6 Cartões de Expositor (enviar lista com nomes) | M6: =IF($A$4="Português",L6,(IF($A$4="English",L16,(IF($A$4="Español",L26))))) -> ● 6 Cartões de Expositor (enviar lista com nomes)
C7: 3 | D7: 6 | F7: =IF($A$4="Português",F8,(IF($A$4="English",F9,(IF($A$4="Español",F10))))) -> Localidade: | H7: Required Fields | J7: REQUEST FOR PARTICIPATION | L7: ● 1 Plinto | M7: =IF($A$4="Português",L7,(IF($A$4="English",L17,(IF($A$4="Español",L27))))) -> ● 1 Plinto
A8: =IF($A$4="Português",A9,(IF($A$4="English",A10,(IF($A$4="Español",A11))))) -> Morada: | C8: 4 | D8: 8 | F8: Localidade: | H8: Campos Obligatórios | J8: SOLICITUD DE PARTICIPACIÓN | L8: ● 2 Cadeiras | M8: =IF($A$4="Português",L8,(IF($A$4="English",L18,(IF($A$4="Español",L28))))) -> ● 2 Cadeiras
A9: Morada: | C9: 5 | D9: 10 | F9: Town: | H9: =IF($A$4="Português",H10,(IF($A$4="English",H11,(IF($A$4="Español",H12))))) -> DADOS DO EXPOSITOR: | J9: =IF($A$4="Português",J10,(IF($A$4="English",J11,(IF($A$4="Español",J12))))) -> INCLUI: | L9: ● Estruturas | M9: =IF($A$4="Português",L9,(IF($A$4="English",L19,(IF($A$4="Español",L29))))) -> ● Estruturas
A10: Address: | C10: 6 | D10: 12 | F10: Población: | H10: DADOS DO EXPOSITOR: | J10: INCLUI: | L10: ● Seguro Responsabilidade Civil | M10: =IF($A$4="Português",L10,(IF($A$4="English",L20,(IF($A$4="Español",L30))))) -> ● Seguro Responsabilidade Civil
A11: Dirección: | C11: 7 | D11: 14 | F11: =IF($A$4="Português",F12,(IF($A$4="English",F13,(IF($A$4="Español",F14))))) -> Assinatura: | H11: EXHIBITOR'S INFORMATION: | J11: INCLUDE: | L11: ● Registration Fee
A12: =IF($A$4="Português",A13,(IF($A$4="English",A14,(IF($A$4="Español",A13))))) -> Pais: | C12: 8 | D12: 16 | F12: Assinatura: | H12: DATOS DEL EXPOSITOR: | J12: INCLUYE: | L12: ● Insertion Catalog
A13: Pais: | C13: 9 | D13: 18 | F13: Signature: | H13: =IF($A$4="Português",H14,(IF($A$4="English",H15,(IF($A$4="Español",H16))))) -> Nome contacto: | J13: =IF($A$4="Português",J14,(IF($A$4="English",J15,(IF($A$4="Español",J16))))) -> ATENÇÃO! | L13: ● Power connection up to 10 KW
A14: Country: | C14: 10 | D14: 20 | F14: Firma: | H14: Nome contacto: | J14: ATENÇÃO! | L14: ● Energy Consumption
A15: =IF($A$4="Português",A16,(IF($A$4="English",A17,(IF($A$4="Español",A18))))) -> Distrito: | C15: 11 | D15: 22 | F15: =IF($A$4="Português",F16,(IF($A$4="English",F17,(IF($A$4="Español",F18))))) -> Telefone: | H15: Contact Name: | J15: ATTENTION! | L15: ● Removal of wastes(1)
A16: Distrito: | C16: 12 | D16: 24 | F16: Telefone: | H16: Nombre contacto: | J16: ¡ATENCIÓN! | L16: ● 6 Exhibitor's Cards (send list of names)
A17: District: | C17: 13 | D17: 26 | F17: Phone: | H17: =IF($A$4="Português",H18,(IF($A$4="English",H19,(IF($A$4="Español",H18))))) -> E-mail directo: | J17: =IF($A$4="Português",J18,(IF($A$4="English",J19,(IF($A$4="Español",J20))))) -> Cheque/Transferência Bancária a favor de: | L17: ● 1 Plinth
A18: Provincia: | C18: 14 | D18: 28 | F18: Teléfono: | H18: E-mail directo: | J18: Cheque/Transferência Bancária a favor de: | L18: ● 2 Chairs
A19: =IF($A$4="Português",A20,(IF($A$4="English",A21,(IF($A$4="Español",A22))))) -> Data: | C19: 15 | D19: 30 | F19: =IF($A$4="Português",F20,(IF($A$4="English",F21,(IF($A$4="Español",F22))))) -> Nº Contribuinte: | H19: Direct e-mail: | J19: Check/Bank Transfer in favor of: | L19: ● Structures
A20: Data: | C20: 16 | D20: 32 | F20: Nº Contribuinte: | H20: =IF($A$4="Português",H21,(IF($A$4="English",H22,(IF($A$4="Español",H23))))) -> Telefone directo: | J20: Cheque/Transferencia Bancaria a favor de: | L20: ● Civil Liability Insurance
A21: Date: | C21: 17 | D21: 34 | F21: Fiscal ID: | H21: Telefone directo: | J21: =IF($A$4="Português",J22,(IF($A$4="English",J23,(IF($A$4="Español",J24))))) -> ESPAÇO FESTA DOS MUSEUS | L21: ● Cuota de Inscripción
A22: Fecha: | F22: NIF: | H22: Direct phone: | J22: ESPAÇO FESTA DOS MUSEUS | L22: ● Inserción Catálogo
A23: =IF('TV2'!$A$1="Português",A24,(IF('TV2'!$A$1="English",A25,(IF('TV2'!$A$1="Español",A26))))) -> Empresa: | F23: =IF($A$4="Português",F24,(IF($A$4="English",F25,(IF($A$4="Español",F24))))) -> Cargo: | H23: Teléfono directo: | J23: AREA FESTIVAL OF MUSEUMS | L23: ● Conexión energia hasta 10KW
A24: Empresa: | F24: Cargo: | J24: ESPACIO FIESTA DE LOS MUSEOS | L24: ● Consumo Energía
A25: Company: | F25: Job: | L25: ● Recogida Residuos(1)
A26: Empresa: | L26: ● 6 Pases de Expositor (enviar listado con nombres)
L27: ● 1 Plinto
L28: ● 2 Sillas
L29: ● Estructuras
L30: ● Seguro Responsabilidad Civil

Sheet TV2
A1: =Espaço!$K$1 -> Português
A3: =IF($A$1="Português",A4,(IF($A$1="English",A5,(IF($A$1="Español",A6))))) -> Declaramos querer participar no certame acima indicado, nas condições da presente Requisição e do Regulamento Geral da FIL, de que tomámos conhecimento e que aceitamos.
A4: Declaramos querer participar no certame acima indicado, nas condições da presente Requisição e do Regulamento Geral da FIL, de que tomámos conhecimento e que aceitamos.
A5: We hereby declare that we wish to participate in the above-mentioned exhibition, according to the conditions of the present requisition and of the General Rules and Regulations of FIL, which we hereby acknowledge and accept.
A6: Declaramos querer participar en el certamen antes mencionado, en las condiciones de la presente Solicitud y del Reglamento General de la FIL, del cual tenemos conocimiento y declaramos aceptar.
A7: =IF($A$1="Português",A8,(IF($A$1="English",A9,(IF($A$1="Español",A10))))) -> Comprometemo-nos a enviar o comprovativo de pagamento equivalente a 100% dos serviços adicionais solicitados para a nossa participação, nos termos das normas aplicáveis ao Certame.
A8: Comprometemo-nos a enviar o comprovativo de pagamento equivalente a 100% dos serviços adicionais solicitados para a nossa participação, nos termos das normas aplicáveis ao Certame.
A9: We pledge to send proof of payment equivalent to 100% of the additional services required for our participation in accordance with the rules applicable to the Exhibition.
A10: Nos comprometemos a enviar el comprobante de pago equivalente al 100% para los servicios adicionales solicitados de nuestra participación, en conformidad con las normas aplicables al Certamen.
A11: =IF($A$1="Português",A12,(IF($A$1="English",A13,(IF($A$1="Español",A14))))) -> DADOS DE FACTURAÇÃO (se for diferente dos dados de Expositor)
A12: DADOS DE FACTURAÇÃO (se for diferente dos dados de Expositor)
A13: INVOICE INFORMATION (if different from the exhibitor's contact information)
A14: DATOS DE FACTURACIÓN (caso sean distintos de los datos de Expositor)
A15: =IF($A$1="Português",A16,(IF($A$1="English",A17,(IF($A$1="Español",A18))))) -> Para os serviços adicionais solicitados, deverá obrigatoriamente enviar junto com esta Requisição de Participação os dados da Empresa a facturar.
A16: Para os serviços adicionais solicitados, deverá obrigatoriamente enviar junto com esta Requisição de Participação os dados da Empresa a facturar.
A17: For additional services requested, will be required to submit with this Request for Participation data of the Company to be invoiced.
A18: Para los servicios adicionales solicitados, deberán presentar obligatoriamente con esta Solicitud los datos de participación de la Empresa a facturar.
A19: =IF($A$1="Português",A20,(IF($A$1="English",A21,(IF($A$1="Español",A22))))) -> (1) Remoção de lixos das áreas comuns na Montagem e Realização (não inclui limpeza de Stand nem remoção de lixo da desmontagem).
A20: (1) Remoção de lixos das áreas comuns na Montagem e Realização (não inclui limpeza de Stand nem remoção de lixo da desmontagem).
A21: (1) Trash removal generated at the setting-up and realization period (stand cleaning and trash removal of disassembly are not included).
A22: (1) Retirada de basura de las áreas comunes durante el Montaje y Realización (no incluye limpieza de Stand ni remoción de basuras del desmontaje).
A23: =IF(TV!$A$4="Português",A24,(IF(TV!$A$4="English",A25,(IF(TV!$A$4="Español",A26))))) -> FORMAS DE PAGAMENTO PARA OS SERVIÇOS ADICIONAIS SOLICITADOS: Colocar a referência - FESTIVAL IN 2013
A24: FORMAS DE PAGAMENTO PARA OS SERVIÇOS ADICIONAIS SOLICITADOS: Colocar a referência - FESTIVAL IN 2013
A25: METHOD OF PAYMENT FOR ADDITIONAL SERVICES REQUESTED: Put the reference - FESTIVAL IN 2013
A26: FORMAS DE PAGO PARA LOS SERVICIOS ADICIONALES SOLICITADOS: Colocar la referencia - FESTIVAL IN 2013
